BEGIN:VCALENDAR
VERSION:2.0
PRODID:-//Cardiovascular Division//NONSGML Events//EN
CALSCALE:GREGORIAN
X-ORIGINAL-URL:https://cardiology.wustl.edu/events/
X-WR-CALDESC:Cardiovascular Division - Events
BEGIN:VEVENT
UID:20240411T2246Z-1712875564.186-EO-12912-1@172.23.128.18
STATUS:CONFIRMED
DTSTAMP:20260424T075205Z
CREATED:20240411T173423Z
LAST-MODIFIED:20240411T173423Z
DTSTART;TZID=America/Chicago:20240417T120000
DTEND;TZID=America/Chicago:20240417T130000
RRULE:FREQ=WEEKLY;INTERVAL=1;BYDAY=WE;UNTIL=20240522T170000Z
SUMMARY: Cardiovascular Trainee Research Seminar
X-ALT-DESC;FMTTYPE=text/html: 
CATEGORIES:Cardiovascular Trainee Research Seminars
LOCATION:Sobel conference Room (801 CSRB-NTA)
GEO:38.636323;-90.262388
ORGANIZER;CN="Elizabeth":MAILTO:bolhafner@wustl.edu
URL;VALUE=URI:https://cardiology.wustl.edu/events/event/cardiovascular-trai
 nee-research-seminar-21/
END:VEVENT
BEGIN:VTIMEZONE
TZID:America/Chicago
BEGIN:DAYLIGHT
TZOFFSETFROM:-0600
TZOFFSETTO:-0500
DTSTART:20240310T080000
TZNAME:CDT
END:DAYLIGHT
END:VTIMEZONE
END:VCALENDAR
